BEGIN:VCALENDAR
VERSION:2.0
PRODID:-//Les Nautiles - ECPv6.0.11//NONSGML v1.0//EN
CALSCALE:GREGORIAN
METHOD:PUBLISH
X-WR-CALNAME:Les Nautiles
X-ORIGINAL-URL:https://www.lesnautiles.fr
X-WR-CALDESC:évènements pour Les Nautiles
REFRESH-INTERVAL;VALUE=DURATION:PT1H
X-Robots-Tag:noindex
X-PUBLISHED-TTL:PT1H
BEGIN:VTIMEZONE
TZID:Europe/Paris
BEGIN:DAYLIGHT
TZOFFSETFROM:+0100
TZOFFSETTO:+0200
TZNAME:CEST
DTSTART:20250330T010000
END:DAYLIGHT
BEGIN:STANDARD
TZOFFSETFROM:+0200
TZOFFSETTO:+0100
TZNAME:CET
DTSTART:20251026T010000
END:STANDARD
BEGIN:DAYLIGHT
TZOFFSETFROM:+0100
TZOFFSETTO:+0200
TZNAME:CEST
DTSTART:20260329T010000
END:DAYLIGHT
BEGIN:STANDARD
TZOFFSETFROM:+0200
TZOFFSETTO:+0100
TZNAME:CET
DTSTART:20261025T010000
END:STANDARD
END:VTIMEZONE
BEGIN:VEVENT
DTSTART;TZID=Europe/Paris:20260418T090000
DTEND;TZID=Europe/Paris:20260418T123000
DTSTAMP:20260423T221414
CREATED:20260310T152633Z
LAST-MODIFIED:20260312T090253Z
UID:2991-1776502800-1776515400@www.lesnautiles.fr
SUMMARY:Samedis matin en famille
DESCRIPTION:Les samedis des vacances scolaires de 9h à 12h30 au centre aquatique Les Nautiles.\nBassin ludique aménagé. Idéalement chauffé pour les plus petits\nInfos : 02 41 94 19 76
URL:https://www.lesnautiles.fr/event/samedis-matin-en-famille-3/
ATTACH;FMTTYPE=image/jpeg:https://www.lesnautiles.fr/wp-content/uploads/2025/10/Samedis-matin-en-famille-2025-scaled.jpg
END:VEVENT
BEGIN:VEVENT
DTSTART;TZID=Europe/Paris:20260417T211500
DTEND;TZID=Europe/Paris:20260417T230000
DTSTAMP:20260423T221414
CREATED:20260310T095046Z
LAST-MODIFIED:20260312T085748Z
UID:2906-1776460500-1776466800@www.lesnautiles.fr
SUMMARY:Aqua-ciné
DESCRIPTION:Séance de cinéma  « Un petit truc en plus »\nOuvertures des portes 20h45 / Début de la séance 21h15\n10 € la séance. Réservation obligatoire avec le règlement à l’accueil de votre centre aquatique jusqu’au 17 avril à 18he (Aucune réservation par téléphone)
URL:https://www.lesnautiles.fr/event/aqua-cine/
ATTACH;FMTTYPE=image/jpeg:https://www.lesnautiles.fr/wp-content/uploads/2026/03/soiree-cinema-avril-nautiles.jpg
END:VEVENT
BEGIN:VEVENT
DTSTART;TZID=Europe/Paris:20260416T180000
DTEND;TZID=Europe/Paris:20260416T190000
DTSTAMP:20260423T221414
CREATED:20260401T145847Z
LAST-MODIFIED:20260401T145847Z
UID:3126-1776362400-1776366000@www.lesnautiles.fr
SUMMARY:Séance aquagym vacances
DESCRIPTION:Vacances de printemps 2026\nLundi et jeudi de 18h15 à 19h\n9 € la séance\n30 personnes / séance\nRéservation obligatoire sur https://www.lesnautiles.fr/mon-espace/ « mes réservations »
URL:https://www.lesnautiles.fr/event/seance-aquagym-vacances/
ATTACH;FMTTYPE=image/png:https://www.lesnautiles.fr/wp-content/uploads/2024/07/Aquagym-vacances.png
END:VEVENT
BEGIN:VEVENT
DTSTART;TZID=Europe/Paris:20260416T180000
DTEND;TZID=Europe/Paris:20260416T190000
DTSTAMP:20260423T221414
CREATED:20260401T145615Z
LAST-MODIFIED:20260401T145615Z
UID:3124-1776362400-1776366000@www.lesnautiles.fr
SUMMARY:
DESCRIPTION:Vacances de printemps – du 11 au 23 avril 2026\nLundi et jeudi : 12h15-13h et 18h15-19h \n10 € la séance ou 90 € la carte de 10 séances réservable en ligne \nInscription obligatoire sur Mon espace « Mes réservations »
URL:https://www.lesnautiles.fr/event/3124/
ATTACH;FMTTYPE=image/png:https://www.lesnautiles.fr/wp-content/uploads/2024/07/Aquatower-vacances.png
END:VEVENT
BEGIN:VEVENT
DTSTART;TZID=Europe/Paris:20260406T090000
DTEND;TZID=Europe/Paris:20260406T173000
DTSTAMP:20260423T221414
CREATED:20260302T090814Z
LAST-MODIFIED:20260311T164302Z
UID:2791-1775466000-1775496600@www.lesnautiles.fr
SUMMARY:Les Nautiles fêtent pâques
DESCRIPTION:9h30/12h : Parcours ludique de 25 m. – A partir de 10 ans\n9h/12h et 15h/17h30 : Carte aux trésors. Retrouvez les œufs et gagnez des chocolats* – De 2 à 10 ans\n* Dans la limite de 100 sachets de chocolats.
URL:https://www.lesnautiles.fr/event/les-nautiles-fetent-paques/
ATTACH;FMTTYPE=image/jpeg:https://www.lesnautiles.fr/wp-content/uploads/2025/04/paques-nautiles-1.jpg
END:VEVENT
BEGIN:VEVENT
DTSTART;VALUE=DATE:20260406
DTEND;VALUE=DATE:20260407
DTSTAMP:20260423T221414
CREATED:20260306T152555Z
LAST-MODIFIED:20260312T085602Z
UID:2776-1775433600-1775519999@www.lesnautiles.fr
SUMMARY:Ouverture lundi de Pâques
DESCRIPTION:Centre aquatique ouvert de 9h à 12h30 et de 15h à 17h30
URL:https://www.lesnautiles.fr/event/ouverture-lundi-de-paques/
ATTACH;FMTTYPE=image/png:https://www.lesnautiles.fr/wp-content/uploads/2026/03/lundi-6-avril-2026.png
END:VEVENT
BEGIN:VEVENT
DTSTART;VALUE=DATE:20260214
DTEND;VALUE=DATE:20260215
DTSTAMP:20260423T221414
CREATED:20230102T135127Z
LAST-MODIFIED:20260312T164517Z
UID:1887-1771027200-1771113599@www.lesnautiles.fr
SUMMARY:Saint Valentin
DESCRIPTION:Journée Saint Valentin aux Nautiles\n10h30-12h30/15h-17h30 : Tarif spécial couple : 7 € (valable uniquement pour les bassins)\n18h : Duo splash & move sur réservation en ligne (à partir du 31 janvier 2026) ou à l’accueil : 13\,50 €\nA gagner par tirage au sort : 1 repas pour 2 au restaurant La Verrière et 2 entrées Balnéo
URL:https://www.lesnautiles.fr/event/animation-saint-valentin/
ATTACH;FMTTYPE=image/jpeg:https://www.lesnautiles.fr/wp-content/uploads/2023/01/Saint-valentin-fevrier-2026.jpg
END:VEVENT
BEGIN:VEVENT
DTSTART;VALUE=DATE:20260201
DTEND;VALUE=DATE:20260202
DTSTAMP:20260423T221414
CREATED:20250127T131708Z
LAST-MODIFIED:20260312T164531Z
UID:2754-1769904000-1769990399@www.lesnautiles.fr
SUMMARY:Vente de crêpes
DESCRIPTION:Vente de crêpes de 9h à 12h30 et de 15h à 17h30 par Segré Natation
URL:https://www.lesnautiles.fr/event/cest-la-chandeleur/
ATTACH;FMTTYPE=image/jpeg:https://www.lesnautiles.fr/wp-content/uploads/2026/01/Affiche-Chandeleur-Nautiles.jpg
END:VEVENT
BEGIN:VEVENT
DTSTART;TZID=Europe/Paris:20260121T140000
DTEND;TZID=Europe/Paris:20260121T173000
DTSTAMP:20260423T221414
CREATED:20260105T141922Z
LAST-MODIFIED:20260105T141922Z
UID:3054-1769004000-1769016600@www.lesnautiles.fr
SUMMARY:Galette des rois
DESCRIPTION:1 part de galette offerte !\nEt si vous avez la fève\, 1 entrée aux Nautiles offerte
URL:https://www.lesnautiles.fr/event/galette-des-rois/
ATTACH;FMTTYPE=image/jpeg:https://www.lesnautiles.fr/wp-content/uploads/2026/01/Galette-rois.jpg
END:VEVENT
BEGIN:VEVENT
DTSTART;VALUE=DATE:20260101
DTEND;VALUE=DATE:20260102
DTSTAMP:20260423T221414
CREATED:20251010T143014Z
LAST-MODIFIED:20251010T143014Z
UID:2993-1767225600-1767311999@www.lesnautiles.fr
SUMMARY:Jour férié - Fermé
DESCRIPTION:Votre centre aquatique sera fermé
URL:https://www.lesnautiles.fr/event/jour-ferie-ferme-2/
ATTACH;FMTTYPE=image/png:https://www.lesnautiles.fr/wp-content/uploads/2022/10/Piscine-fermeture-jour-férié.png
END:VEVENT
BEGIN:VEVENT
DTSTART;VALUE=DATE:20251225
DTEND;VALUE=DATE:20251226
DTSTAMP:20260423T221414
CREATED:20230613T091148Z
LAST-MODIFIED:20251010T142815Z
UID:2386-1766620800-1766707199@www.lesnautiles.fr
SUMMARY:Jour férié - Fermé
DESCRIPTION:Votre centre aquatique sera fermé
URL:https://www.lesnautiles.fr/event/jour-ferie-ouvert-3/
ATTACH;FMTTYPE=image/png:https://www.lesnautiles.fr/wp-content/uploads/2022/10/Piscine-fermeture-jour-férié.png
END:VEVENT
BEGIN:VEVENT
DTSTART;VALUE=DATE:20251222
DTEND;VALUE=DATE:20260105
DTSTAMP:20260423T221414
CREATED:20220622T065119Z
LAST-MODIFIED:20251215T075530Z
UID:2035-1766361600-1767571199@www.lesnautiles.fr
SUMMARY:Horaires vacances de Noël
DESCRIPTION:
URL:https://www.lesnautiles.fr/event/horaires-vacances-estivales/
ATTACH;FMTTYPE=image/jpeg:https://www.lesnautiles.fr/wp-content/uploads/2025/12/Horaires-vacances-toussaint-noel-hiver-special-noel-scaled.jpg
END:VEVENT
BEGIN:VEVENT
DTSTART;VALUE=DATE:20251111
DTEND;VALUE=DATE:20251112
DTSTAMP:20260423T221414
CREATED:20240927T140451Z
LAST-MODIFIED:20251001T140355Z
UID:2682-1762819200-1762905599@www.lesnautiles.fr
SUMMARY:Jour férié - Ouvert
DESCRIPTION:Votre centre aquatique sera ouvert mardi 11 novembre 2025 de 9h à 12h30 et de 15h à 17h30
URL:https://www.lesnautiles.fr/event/jour-ferie-ferme/
ATTACH;FMTTYPE=image/png:https://www.lesnautiles.fr/wp-content/uploads/2022/06/Piscine-ouverture.png
END:VEVENT
BEGIN:VEVENT
DTSTART;VALUE=DATE:20251101
DTEND;VALUE=DATE:20251102
DTSTAMP:20260423T221414
CREATED:20220622T073507Z
LAST-MODIFIED:20251001T140247Z
UID:2044-1761955200-1762041599@www.lesnautiles.fr
SUMMARY:Jour férié - Ouvert
DESCRIPTION:Ouvert le samedi 1er novembre 2025 de 9h à 12h30 et de 15h à 18h
URL:https://www.lesnautiles.fr/event/jour-ferie-ouvert/
ATTACH;FMTTYPE=image/png:https://www.lesnautiles.fr/wp-content/uploads/2022/06/Piscine-ouverture.png
END:VEVENT
BEGIN:VEVENT
DTSTART;TZID=Europe/Paris:20251025T094500
DTEND;TZID=Europe/Paris:20251025T120000
DTSTAMP:20260423T221414
CREATED:20250917T093120Z
LAST-MODIFIED:20250925T132544Z
UID:2966-1761385500-1761393600@www.lesnautiles.fr
SUMMARY:Octobre rose – prévention/information avec la Ligue contre le cancer
DESCRIPTION:Dans le hall de votre centre aquatique\, les bénévoles de la Ligue contre le cancer vous accueillent/informent de 9h45 à 12h
URL:https://www.lesnautiles.fr/event/octobre-rose-prevention-information-avec-la-ligue-contre-le-cancer-2/
ATTACH;FMTTYPE=image/jpeg:https://www.lesnautiles.fr/wp-content/uploads/2025/09/octobre-rose-les-nautiles.jpg
END:VEVENT
BEGIN:VEVENT
DTSTART;VALUE=DATE:20251023
DTEND;VALUE=DATE:20251024
DTSTAMP:20260423T221414
CREATED:20220613T091824Z
LAST-MODIFIED:20251014T093530Z
UID:2018-1761177600-1761263999@www.lesnautiles.fr
SUMMARY:Fermeture exceptionnelle
DESCRIPTION:Votre centre aquatique sera fermé exceptionnellement pour travaux par le Syndicat d’eau
URL:https://www.lesnautiles.fr/event/fermeture-exceptionnelle/
ATTACH;FMTTYPE=image/png:https://www.lesnautiles.fr/wp-content/uploads/2022/10/Piscine-fermeture-exceptionnelle.png
END:VEVENT
BEGIN:VEVENT
DTSTART;TZID=Europe/Paris:20251018T094500
DTEND;TZID=Europe/Paris:20251018T120000
DTSTAMP:20260423T221414
CREATED:20250917T092946Z
LAST-MODIFIED:20250925T132454Z
UID:2963-1760780700-1760788800@www.lesnautiles.fr
SUMMARY:Octobre rose - prévention/information avec la Ligue contre le cancer
DESCRIPTION:Dans le hall de votre centre aquatique\, les bénévoles de la Ligue contre le cancer vous accueillent/informent de 9h45 à 12h
URL:https://www.lesnautiles.fr/event/octobre-rose-prevention-information-avec-la-ligue-contre-le-cancer/
ATTACH;FMTTYPE=image/jpeg:https://www.lesnautiles.fr/wp-content/uploads/2025/09/octobre-rose-les-nautiles.jpg
END:VEVENT
BEGIN:VEVENT
DTSTART;TZID=Europe/Paris:20250927T190000
DTEND;TZID=Europe/Paris:20250927T210000
DTSTAMP:20260423T221414
CREATED:20230520T070000Z
LAST-MODIFIED:20250819T103125Z
UID:2334-1758999600-1759006800@www.lesnautiles.fr
SUMMARY:Soirée Aqua Relaxation sonore
DESCRIPTION:Votre centre aquatique Les Nautiles vous propose une 𝗦𝗼𝗶𝗿𝗲́𝗲 𝗔𝗾𝘂𝗮 𝗥𝗲𝗹𝗮𝘅𝗮𝘁𝗶𝗼𝗻 𝗦𝗼𝗻𝗼𝗿𝗲\, le samedi 27 septembre 2025 de 19h à 21h\n Lors de cette soirée vous allez pouvoir profiter de notre espace balnéo et participer à une séance d’aqua relaxation sonore avec bols tibétains avec Yourte Om Mary-Jane Saulnier Praticienne Bien-être.\n Pour réserver Mes inscriptions\nInfos pratiques :\n Tarif : 10 € par personne – places limitées\n Adultes uniquement\n Déconseillé aux femmes enceintes et aux personnes ayant un pacemaker.\n Après votre réservation merci de passer au centre aquatique pour procéder au règlement de l’activité.\nPlus d’informations à l’accueil de votre centre aquatique ou au 02 41 94 19 76
URL:https://www.lesnautiles.fr/event/soiree-aqua-relaxation-sonore/
ATTACH;FMTTYPE=image/jpeg:https://www.lesnautiles.fr/wp-content/uploads/2023/05/Soiree-aqua-relaxation-2025-scaled.jpg
END:VEVENT
BEGIN:VEVENT
DTSTART;VALUE=DATE:20250906
DTEND;VALUE=DATE:20250908
DTSTAMP:20260423T221414
CREATED:20250408T125250Z
LAST-MODIFIED:20250822T141838Z
UID:2802-1757116800-1757289599@www.lesnautiles.fr
SUMMARY:Horaires samedi 6 et dimanche 7 septembre
DESCRIPTION:Samedi 6 septembre de 15h à 17h30 et\nDimanche 7 septembre de 9h à 12h30 et de 15h à 17h30 pour tous les bassins.
URL:https://www.lesnautiles.fr/event/horaires-du-12-au-21-avril-2025/
ATTACH;FMTTYPE=image/png:https://www.lesnautiles.fr/wp-content/uploads/2022/10/Piscine-changement-horaires.png
END:VEVENT
BEGIN:VEVENT
DTSTART;VALUE=DATE:20250901
DTEND;VALUE=DATE:20250906
DTSTAMP:20260423T221414
CREATED:20220622T071736Z
LAST-MODIFIED:20250822T141648Z
UID:2039-1756684800-1757116799@www.lesnautiles.fr
SUMMARY:Fermeture du 1er au 5 septembre 2025
DESCRIPTION:Au programme pendant la fermeture : \n\nPetit arrêt technique\nPermanences de paiements pour les nouvelles inscriptions\nRecyclage secourisme agents bassins\nFormation Hygiène pour tous les agents\n\nRéouverture du centre aquatique au public le samedi 6 septembre de 15h à 17h30 et le dimanche 7 septembre de 9h à 12h30 et de 15h à 17h30 pour tous les bassins.
URL:https://www.lesnautiles.fr/event/arret-technique-fermeture/
ATTACH;FMTTYPE=image/png:https://www.lesnautiles.fr/wp-content/uploads/2022/06/Piscine-fermeture-1.png
END:VEVENT
BEGIN:VEVENT
DTSTART;VALUE=DATE:20250825
DTEND;VALUE=DATE:20250829
DTSTAMP:20260423T221414
CREATED:20240729T123157Z
LAST-MODIFIED:20250822T141447Z
UID:2644-1756080000-1756425599@www.lesnautiles.fr
SUMMARY:Séances aquagym été
DESCRIPTION:Lundi et jeudi de 19h15 à 20h\n9 € la séance\nRéservation obligatoire sur https://www.lesnautiles.fr/mon-espace/ « mes réservations »
URL:https://www.lesnautiles.fr/event/seances-aquagym/
ATTACH;FMTTYPE=image/png:https://www.lesnautiles.fr/wp-content/uploads/2024/07/Aquagym-ete-2025.png
END:VEVENT
BEGIN:VEVENT
DTSTART;VALUE=DATE:20250825
DTEND;VALUE=DATE:20250829
DTSTAMP:20260423T221414
CREATED:20240703T083721Z
LAST-MODIFIED:20250822T141412Z
UID:2634-1756080000-1756425599@www.lesnautiles.fr
SUMMARY:Séances Aquatower été
DESCRIPTION:Lundi et jeudi  : 12h15-13h et 19h15-20h00\n\n10 € la séance \nInscription obligatoire sur Mon espace « Mes réservations »
URL:https://www.lesnautiles.fr/event/seances-aquatower-2/
ATTACH;FMTTYPE=image/png:https://www.lesnautiles.fr/wp-content/uploads/2024/07/Aquatower-ete-2025.png
END:VEVENT
BEGIN:VEVENT
DTSTART;VALUE=DATE:20250815
DTEND;VALUE=DATE:20250816
DTSTAMP:20260423T221414
CREATED:20220622T073555Z
LAST-MODIFIED:20250723T085314Z
UID:2046-1755216000-1755302399@www.lesnautiles.fr
SUMMARY:Jour Férié - Ouvert
DESCRIPTION:Vendredi 15 août 2025 de 10h à 12h30 et de 14h30 à 19h
URL:https://www.lesnautiles.fr/event/jour-ferie-ouvert-2/
ATTACH;FMTTYPE=image/png:https://www.lesnautiles.fr/wp-content/uploads/2022/06/Piscine-ouverture.png
END:VEVENT
BEGIN:VEVENT
DTSTART;TZID=Europe/Paris:20250801T150000
DTEND;TZID=Europe/Paris:20250801T170000
DTSTAMP:20260423T221414
CREATED:20250723T084735Z
LAST-MODIFIED:20250723T084735Z
UID:2903-1754060400-1754067600@www.lesnautiles.fr
SUMMARY:Animation aquamodélisme
DESCRIPTION:15h – 17h Démonstration et essai de pilotage dans le bassin nordique avec la section « aéromodélisme » du Foyer Laïque de Segré
URL:https://www.lesnautiles.fr/event/animation-aquamodelisme/
ATTACH;FMTTYPE=image/png:https://www.lesnautiles.fr/wp-content/uploads/2025/07/animation-aqua_modelisme.png
END:VEVENT
BEGIN:VEVENT
DTSTART;TZID=Europe/Paris:20250705T200000
DTEND;TZID=Europe/Paris:20250705T230000
DTSTAMP:20260423T221414
CREATED:20250603T073602Z
LAST-MODIFIED:20250603T073650Z
UID:2877-1751745600-1751756400@www.lesnautiles.fr
SUMMARY:Pool Party
DESCRIPTION:De 20h à 23h pour les jeunes de 12 à 16 ans\n3\,50 € sur place\nAvec DJ Oxygène évènements
URL:https://www.lesnautiles.fr/event/pool-party/
ATTACH;FMTTYPE=image/jpeg:https://www.lesnautiles.fr/wp-content/uploads/2025/06/Pool-party-2025-scaled.jpg
END:VEVENT
BEGIN:VEVENT
DTSTART;VALUE=DATE:20250615
DTEND;VALUE=DATE:20250616
DTSTAMP:20260423T221414
CREATED:20230613T090216Z
LAST-MODIFIED:20250603T121641Z
UID:2381-1749945600-1750031999@www.lesnautiles.fr
SUMMARY:Fête des pères
DESCRIPTION:De 9h à 12h30 – 15h à 17h30
URL:https://www.lesnautiles.fr/event/fete-des-peres/
ATTACH;FMTTYPE=image/jpeg:https://www.lesnautiles.fr/wp-content/uploads/2023/06/Affiche-fete-des-peres-2025-1-scaled.jpg
END:VEVENT
BEGIN:VEVENT
DTSTART;VALUE=DATE:20250608
DTEND;VALUE=DATE:20250609
DTSTAMP:20260423T221414
CREATED:20250418T091145Z
LAST-MODIFIED:20250418T091158Z
UID:2818-1749340800-1749427199@www.lesnautiles.fr
SUMMARY:Fermeture exceptionnelle - compétition
DESCRIPTION:En raison d’une compétition de natation organisée aux Nautiles\, votre centre aquatique sera fermé toute la journée.
URL:https://www.lesnautiles.fr/event/fermeture-exceptionnelle-competition-2/
ATTACH;FMTTYPE=image/png:https://www.lesnautiles.fr/wp-content/uploads/2022/06/Piscine-fermeture.png
END:VEVENT
BEGIN:VEVENT
DTSTART;VALUE=DATE:20250529
DTEND;VALUE=DATE:20250602
DTSTAMP:20260423T221414
CREATED:20221021T125443Z
LAST-MODIFIED:20250513T065353Z
UID:2175-1748476800-1748822399@www.lesnautiles.fr
SUMMARY:Modification horaires
DESCRIPTION:Horaires pour le week-end de l’Ascension \n\nJeudi 29 mai 2025 : Ouvert de 9h à 12h30 et de 15h à 18h\nVendredi 30 mai 2025 : Ouvert de 15h à 18h\nSamedi 31 mai 2025 : Ouvert de 9h à 12h30 (Samedis matin en famille) et de 15h à 18h\nDimanche 1er juin 2025 : Ouvert de 9h à 12h30 et de 15h à 18h
URL:https://www.lesnautiles.fr/event/fermeture-exceptionnelle-3/
ATTACH;FMTTYPE=image/png:https://www.lesnautiles.fr/wp-content/uploads/2022/10/Piscine-changement-horaires.png
END:VEVENT
BEGIN:VEVENT
DTSTART;VALUE=DATE:20250525
DTEND;VALUE=DATE:20250526
DTSTAMP:20260423T221414
CREATED:20240517T142405Z
LAST-MODIFIED:20250430T085024Z
UID:2587-1748131200-1748217599@www.lesnautiles.fr
SUMMARY:Fête des mères
DESCRIPTION:9h à 12h30 et de 15 à 17h30\n3 € pour les mamans accompagnées de leur(s) enfant(s)\n1 cadeau surprise à gagner
URL:https://www.lesnautiles.fr/event/fete-des-meres/
ATTACH;FMTTYPE=image/jpeg:https://www.lesnautiles.fr/wp-content/uploads/2024/05/Affiche-fete-des-meres-2025-scaled.jpg
END:VEVENT
BEGIN:VEVENT
DTSTART;VALUE=DATE:20250502
DTEND;VALUE=DATE:20250603
DTSTAMP:20260423T221414
CREATED:20250418T090349Z
LAST-MODIFIED:20250418T090536Z
UID:2814-1746144000-1748908799@www.lesnautiles.fr
SUMMARY:Exposition photos de 1966 à aujourd'hui
DESCRIPTION:A voir dans le hall de votre centre aquatique du 2 mai au 1er juin 2025 aux horaires d’ouverture\nAccès libre et gratuit
URL:https://www.lesnautiles.fr/event/exposition-photos-de-1966-a-aujourdhui/
ATTACH;FMTTYPE=image/png:https://www.lesnautiles.fr/wp-content/uploads/2025/04/expo-photos.png
END:VEVENT
END:VCALENDAR